BEGIN:VCALENDAR
VERSION:2.0
PRODID:-//AudioTheme 3.0.2
BEGIN:VEVENT
UID:urn:uuid:828d1b45-2d68-412d-b7f5-77793ba8887b
URL:https://www.rolandscull.de/shows/2025-12-01/
DTSTART;TZID=GMT:20251201T190000
SUMMARY:Southside Jam
DESCRIPTION:Gemeinsam mit der Hausband rocken wir einen Abend lang das Vereinslokal. Es wird bluesig\, rockig\, und wahrscheinlich auch ein bisschen swingen.
LOCATION:SV Arminia Hannover e.V.\, 119 Bischofsholer Damm\, Hannover\, NDS\, Germany\, 30173
END:VEVENT
END:VCALENDAR
