BEGIN:VCALENDAR
VERSION:2.0
PRODID:-//AudioTheme 3.0.2
BEGIN:VEVENT
UID:urn:uuid:1b6c0009-762d-4026-aee8-36e996b49cb7
URL:https://www.rolandscull.de/shows/roland-scull-volker-fry-2026-03-06/
DTSTART;TZID=GMT:20260308T000000
SUMMARY:Roland Scull & Volker Fry Live im Fiesta Mexicana
DESCRIPTION:Ein zweisprachiger Liederabend & Jamsession.  Zum Zuhören und Mitmachen. 
LOCATION:Fiesta Mexicana\, Rudolf-Breitscheid-Straße 201\, Potsdam\, Select an option…\, Deutschland\, 14482
END:VEVENT
END:VCALENDAR
